BEGIN:VCALENDAR
VERSION:2.0
PRODID:-//MOTIONPICTUREMAKER.COM - ECPv6.15.15//NONSGML v1.0//EN
CALSCALE:GREGORIAN
METHOD:PUBLISH
X-WR-CALNAME:MOTIONPICTUREMAKER.COM
X-ORIGINAL-URL:https://motionpicturemaker.com
X-WR-CALDESC:Events for MOTIONPICTUREMAKER.COM
REFRESH-INTERVAL;VALUE=DURATION:PT1H
X-Robots-Tag:noindex
X-PUBLISHED-TTL:PT1H
BEGIN:VTIMEZONE
TZID:America/Vancouver
BEGIN:DAYLIGHT
TZOFFSETFROM:-0800
TZOFFSETTO:-0700
TZNAME:PDT
DTSTART:20240310T100000
END:DAYLIGHT
BEGIN:STANDARD
TZOFFSETFROM:-0700
TZOFFSETTO:-0800
TZNAME:PST
DTSTART:20241103T090000
END:STANDARD
BEGIN:DAYLIGHT
TZOFFSETFROM:-0800
TZOFFSETTO:-0700
TZNAME:PDT
DTSTART:20250309T100000
END:DAYLIGHT
BEGIN:STANDARD
TZOFFSETFROM:-0700
TZOFFSETTO:-0800
TZNAME:PST
DTSTART:20251102T090000
END:STANDARD
BEGIN:DAYLIGHT
TZOFFSETFROM:-0800
TZOFFSETTO:-0700
TZNAME:PDT
DTSTART:20260308T100000
END:DAYLIGHT
BEGIN:STANDARD
TZOFFSETFROM:-0700
TZOFFSETTO:-0800
TZNAME:PST
DTSTART:20261101T090000
END:STANDARD
END:VTIMEZONE
BEGIN:VEVENT
DTSTART;VALUE=DATE:20250102
DTEND;VALUE=DATE:20250114
DTSTAMP:20260424T140151
CREATED:20240503T001913Z
LAST-MODIFIED:20240520T052639Z
UID:460-1735776000-1736812799@motionpicturemaker.com
SUMMARY:Palm Springs International Film Festival
DESCRIPTION:Palm Springs\, California\nUnited States\n  \nABOUT THE PALM SPRINGS INTERNATIONAL FILM FESTIVAL\nOUR MISSION\nThe Palm Springs International Film Festival is a 501(c)(3) charitable non-profit organization whose mission is to cultivate and promote the art and science of film through education and cross-cultural awareness. \nOUR VISION\nPalm Springs International Film Society strives for a world in which enlightenment\, knowledge and tolerance prevail. We believe film as an art form has the power to bridge cultures and illuminate the universality of the human experience. \nThe Palm Springs International Film Society enthusiastically pursues its artistic and public service goals; to enrich\, to educate\, to entertain\, to initiate cultural dialogue and celebrate cinematic excellence in any language. Our principle objectives encompass promoting film to an ever-widening audience as a powerful medium that inspires creativity\, encourages introspection and compels exploration. The Society aims for a leadership role in providing an extensive forum for multicultural exchange in the Coachella Valley and beyond.\n  \nDEADLINES & FEES\nOpening Submission Date\nApril 2\, 2024 \nNotification Date\nNovember 8\, 2024 \nEvent Date\nJanuary 2-13\, 2025\n  \n\n\n\n\nRegular\nFinal\n\n\nNarrative & Documentary Feature Films\nMay 31\, 2024: $75\nJune 30\, 2024: $95\n\n\n\n \nVisit the Palm Springs International Film Festival website for more information. \n\n\nVIEW THE EVENT CALENDAR
URL:https://motionpicturemaker.com/event/palm-springs-international-film-festival/
LOCATION:N/A
CATEGORIES:Film Festivals
ATTACH;FMTTYPE=image/jpeg:https://motionpicturemaker.com/wp-content/uploads/2022/06/palm-springs-international-film-festival-logo.jpg
ORGANIZER;CN="PALM SPRINGS INTERNATIONAL FILM SOCIETY":MAILTO:info@psfilmfest.org
END:VEVENT
END:VCALENDAR