BEGIN:VCALENDAR
VERSION:2.0
PRODID:-//MOTIONPICTUREMAKER.COM - ECPv6.15.15//NONSGML v1.0//EN
CALSCALE:GREGORIAN
METHOD:PUBLISH
X-WR-CALNAME:MOTIONPICTUREMAKER.COM
X-ORIGINAL-URL:https://motionpicturemaker.com
X-WR-CALDESC:Events for MOTIONPICTUREMAKER.COM
REFRESH-INTERVAL;VALUE=DURATION:PT1H
X-Robots-Tag:noindex
X-PUBLISHED-TTL:PT1H
BEGIN:VTIMEZONE
TZID:America/Vancouver
BEGIN:DAYLIGHT
TZOFFSETFROM:-0800
TZOFFSETTO:-0700
TZNAME:PDT
DTSTART:20240310T100000
END:DAYLIGHT
BEGIN:STANDARD
TZOFFSETFROM:-0700
TZOFFSETTO:-0800
TZNAME:PST
DTSTART:20241103T090000
END:STANDARD
BEGIN:DAYLIGHT
TZOFFSETFROM:-0800
TZOFFSETTO:-0700
TZNAME:PDT
DTSTART:20250309T100000
END:DAYLIGHT
BEGIN:STANDARD
TZOFFSETFROM:-0700
TZOFFSETTO:-0800
TZNAME:PST
DTSTART:20251102T090000
END:STANDARD
BEGIN:DAYLIGHT
TZOFFSETFROM:-0800
TZOFFSETTO:-0700
TZNAME:PDT
DTSTART:20260308T100000
END:DAYLIGHT
BEGIN:STANDARD
TZOFFSETFROM:-0700
TZOFFSETTO:-0800
TZNAME:PST
DTSTART:20261101T090000
END:STANDARD
END:VTIMEZONE
BEGIN:VEVENT
DTSTART;VALUE=DATE:20250203
DTEND;VALUE=DATE:20250204
DTSTAMP:20260424T123427
CREATED:20240216T181827Z
LAST-MODIFIED:20250719T023432Z
UID:4489-1738540800-1738627199@motionpicturemaker.com
SUMMARY:Calgary Underground Film Festival Regular Deadline
DESCRIPTION:Calgary\, Alberta\nCanada\n  \nABOUT THE CALGARY UNDERGROUND FILM FESTIVAL\nThe Calgary Underground Film Festival (CUFF) is Western Canada's premiere genre festival\, and one of Calgary’s most anticipated events for film fans. Recently\, CUFF has been named one of The Best Horror Festivals in the World\, 2022 by Dread Central\, and in 2023 and 2021 was selected as one of the World’s 50 Best Genre Festivals and one of 50 Film Festivals Worth the Entry Fee by MovieMaker Magazine. \nFounded in 2003\, CUFF is a not-for-profit organization dedicated to programming films that defy convention. Through the screening of contemporary works in various categories that include: feature\, documentary\, animation and shorts – we bring Calgarians a unique roster of films rarely seen in North American theatres. We actively look to showcase titles in all genres\, from horror\, sci-fi and fantasy to comedies\, thrillers and music-related films. In addition to finding great films we are committed to introducing you to the people behind the lens\, by showcasing local and international indie filmmakers. We are proud to contribute to Calgary's thriving arts community and are thrilled to bring innovative and challenging selections to all film enthusiasts. \nGUIDELINES\n1) Features films: must be a Calgary premiere\, and not have screened in theatre\, local festival or Canadian broadcast before our dates.\n2) Short films: Priority is given to films which have not yet screened in Calgary.\n3) We do not program films which were finished prior to last year's festival.\n4) Films must not have been released on VOD or available to Canadian audiences.\n5) If you change your screener link or password\, and do not notify us on your own\, it could end up not being seen. We do our best to follow up\, but can not always do so. \n*Free for alumni and Alberta filmmakers. Please email the festival for a waiver code if you meet either of these criteria. \n  \nDEADLINES & FEES\nOpening Submission Date\nJuly 2\, 2024 \nNotification Date\nMarch 17\, 2025 \nEvent Date\nApril 17 - 27\, 2025 \n  \n\n\n\n\nRegular\n\n\nFeatures (International)\nFeb 3\, 2025: $40\n\n\nFeatures (Canadian)\nFeb 3\, 2025: $30\n\n\nShort Films (International)\nFeb 3\, 2025: $20\n\n\nShort Films (Canadian)\nFeb 3\, 2025: $15\n\n\n\n  \nVisit the Calgary Underground Film Festival website for more information. \n  \n\n\nVIEW THE EVENT CALENDAR\n  \n 
URL:https://motionpicturemaker.com/event/calgary-underground-film-festival-regular-deadline/
LOCATION:Globe Cinema\, 617 8 Ave SW\, Calgary\, AB\, T2P 1H1\, Canada
CATEGORIES:Film Festivals
ATTACH;FMTTYPE=image/jpeg:https://motionpicturemaker.com/wp-content/uploads/2022/07/cuff-docs-documentary-film-festival-logo.jpg
END:VEVENT
END:VCALENDAR