BEGIN:VCALENDAR
VERSION:2.0
PRODID:-//MOTIONPICTUREMAKER.COM - ECPv6.15.15//NONSGML v1.0//EN
CALSCALE:GREGORIAN
METHOD:PUBLISH
X-WR-CALNAME:MOTIONPICTUREMAKER.COM
X-ORIGINAL-URL:https://motionpicturemaker.com
X-WR-CALDESC:Events for MOTIONPICTUREMAKER.COM
REFRESH-INTERVAL;VALUE=DURATION:PT1H
X-Robots-Tag:noindex
X-PUBLISHED-TTL:PT1H
BEGIN:VTIMEZONE
TZID:America/Vancouver
BEGIN:DAYLIGHT
TZOFFSETFROM:-0800
TZOFFSETTO:-0700
TZNAME:PDT
DTSTART:20240310T100000
END:DAYLIGHT
BEGIN:STANDARD
TZOFFSETFROM:-0700
TZOFFSETTO:-0800
TZNAME:PST
DTSTART:20241103T090000
END:STANDARD
BEGIN:DAYLIGHT
TZOFFSETFROM:-0800
TZOFFSETTO:-0700
TZNAME:PDT
DTSTART:20250309T100000
END:DAYLIGHT
BEGIN:STANDARD
TZOFFSETFROM:-0700
TZOFFSETTO:-0800
TZNAME:PST
DTSTART:20251102T090000
END:STANDARD
BEGIN:DAYLIGHT
TZOFFSETFROM:-0800
TZOFFSETTO:-0700
TZNAME:PDT
DTSTART:20260308T100000
END:DAYLIGHT
BEGIN:STANDARD
TZOFFSETFROM:-0700
TZOFFSETTO:-0800
TZNAME:PST
DTSTART:20261101T090000
END:STANDARD
END:VTIMEZONE
BEGIN:VEVENT
DTSTART;VALUE=DATE:20250207
DTEND;VALUE=DATE:20250217
DTSTAMP:20260424T124007
CREATED:20240519T201818Z
LAST-MODIFIED:20240520T222031Z
UID:4256-1738886400-1739750399@motionpicturemaker.com
SUMMARY:Victoria Film Festival
DESCRIPTION:Victoria\, British Columbia\nCanada\n  \nABOUT THE VICTORIA FILM FESTIVAL\nThe Victoria Film Festival embodies the spirit of the cinematic arts on Vancouver Island. We worship cult films\, practice wine & beer sacrifices\, offer a ritual of initiation for emerging filmmakers\, and bring unique artistic voices from Canada and around the world to local screens. \nVFF is open to all forms of creative media\, but it is deathly allergic to clichés. Every February\, we roust hibernating Victorians and islanders\, roll out the pink carpet for the sheer glam of it\, and throw a 10-day film festival across the city. \nMission\n\nThe mission of the Victoria Film Festival: Impossible.\nWhy?\nThe mission of the Victoria Film Festival is to stimulate critical analysis and inspire individuals to recognize and utilize film as a creative tool.\nNah\, you’re right\, it’s Impossible – but we’re giving it a go anyway. Wheeeeeeeeee!\n\nVision\nWe do not look at the world through pink-coloured glasses\, we simply see it as pink as a leaf\, as blue as an orange\, and as rainbowy as our ideas. Come and see for yourself. Or check out our VFF vision prescription eyewear. \nValues\n\nRespect\nIntegrity\nDiversity\nOpen communication\nCollaboration\nUnique\nForward-thinking\n\nWho do we like to hang with?\nIt’s been a long time coming but the world is opening its eyes to the brilliance of diversity. We have always shown it in our films and we strive to do it in our office.  We go for all the colours and flavours of the world and welcome everyone’s uniqueness. Thank heaven for her\, he\, and they\, you make the world shine. \n  \nDEADLINES & FEES\nOpening Submission Date\nApril 3\, 2024 \nNotification Date\nDecember 27\, 2024 \nEvent Date\nFebruary 7-16\, 2025 \n  \n\n\n\n\nEarly Bird\nRegular\nLate\n\n\nFeature Films\nJune 16\, 2024: $25\nJuly 14\, 2024: $45\nAug 18\, 2024: $55\n\n\nShort Films\nJune 16\, 2024: $25\nJuly 14\, 2024: $45\nAug 18\, 2024: $55\n\n\n\n  \nVisit the Victoria Film Festival website for more information. \n  \n\n\nVIEW THE EVENT CALENDAR\n  \n 
URL:https://motionpicturemaker.com/event/victoria-film-festival/
LOCATION:Vic Theatre\, 808 Douglas Street\, Victoria\, BC\, V8W 2B7\, Canada
CATEGORIES:Film Festivals
ATTACH;FMTTYPE=image/jpeg:https://motionpicturemaker.com/wp-content/uploads/2024/02/victoria-film-festival-logo.jpg
END:VEVENT
BEGIN:VEVENT
DTSTART;VALUE=DATE:20250213
DTEND;VALUE=DATE:20250224
DTSTAMP:20260424T124007
CREATED:20240827T001838Z
LAST-MODIFIED:20240827T031541Z
UID:633-1739404800-1740355199@motionpicturemaker.com
SUMMARY:Berlin International Film Festival
DESCRIPTION:Berlin\, Germany\n  \nABOUT THE BERLIN INTERNATIONAL FILM FESTIVAL\nThe Berlin International Film Festival is a unique place of artistic exploration and entertainment. It is one of the largest public film festivals in the world\, attracting tens of thousands of visitors from around the globe each year. For the film industry and the media\, the eleven days in February are also one of the most important events in the annual calendar and an indispensable trading forum. \nThe Berlin International Film Festival enjoys an eventful history. The festival was created for the Berlin public in 1951\, at the beginning of the Cold War\, as a “showcase of the free world”. Shaped by the turbulent post-war period and the unique situation of a divided city\, the Berlinale has developed into a place of intercultural exchange and a platform for the critical cinematic exploration of social issues. To this day it is considered the most political of all the major film festivals. \nThe Berlinale brings the big stars of international cinema to Berlin and discovers new talents. It accompanies filmmakers of all disciplines on their paths into the spotlight and supports careers\, projects\, dreams and visions. \nThanks to its numerous industry initiatives\, the Berlinale is a significant driver of innovation and an important economic factor internationally as well as for companies in Germany and Berlin. \nThe Programme: Diverse\, Independent and Daring\nEvery year\, around 400 films of all genres\, lengths and formats are shown in the various sections and special presentations of the Berlinale. Across the spectrum from feature films to documentary forms and artistic experiments\, the audience is invited to encounter highly contrasting milieus\, ways of life and attitudes\, to put their own judgements and prejudices to the test and to reinvigorate their experience of seeing and perceiving in the realm between classic narrative forms and extraordinary aesthetics. The programme also thrives on an intense dialogue with its audiences. A rich array of spoken-word events\, audience discussions and expert panels facilitate an active participation in the festival. \n  \nDEADLINES & FEES\nOnline submission for 2025 will be activated in mid-September. \nEvent Date\nFebruary 13 - 23\, 2025\n  \n\n\n\n\nOfficial Deadline\n\n\nFeature Films\nNov. 1\, 2023: €175\n\n\nShort Films\nNov. 15\, 2023: €75\n\n\n\n\n  \n \nVisit the Berlin International Film Festival website for more information.
URL:https://motionpicturemaker.com/event/berlin-international-film-festival/
LOCATION:N/A
CATEGORIES:Film Festivals
ATTACH;FMTTYPE=image/jpeg:https://motionpicturemaker.com/wp-content/uploads/2022/06/berlin-international-film-festival-logo.jpg
END:VEVENT
BEGIN:VEVENT
DTSTART;VALUE=DATE:20250214
DTEND;VALUE=DATE:20250215
DTSTAMP:20260424T124007
CREATED:20250309T165422Z
LAST-MODIFIED:20250309T165422Z
UID:5157-1739491200-1739577599@motionpicturemaker.com
SUMMARY:Fantastic Fest Earlybird Deadline
DESCRIPTION:Fantastic Fest Earlybird Deadline\nToday is the Fantastic Fest film festival earlybird deadline. Located in the United States\, Fantastic Fest takes place in September in Austin\, Texas. It is the largest genre film festival in the US\, specializing in horror\, fantasy\, sci-fi\, and action movies. Read on for more information about Fantastic Fest\, including the earlybird deadline\, notification date\, festival dates\, and other important information. \nABOUT FANTASTIC FEST\nFantastic Fest is the largest genre film festival in the US\, specializing in horror\, fantasy\, sci-fi\, action and just plain fantastic movies from all around the world. The festival is dedicated to championing challenging and thought-provoking cinema\, celebrating new voices and new stories from around the world and supporting new filmmakers. We work with various other festivals\, archives\, cinematheques and individuals to spotlight lesser-known film regions\, luminaries and more in an ongoing effort to expand the general knowledge and appreciation of cinema. We are committed to supporting film in its most provocative\, ground-breaking and underseen forms\, and giving the audience a chance to find new favorites and future genre classics. \nEach year we bring together fans\, guests\, industry\, press and others in an inclusive and fun environment for a weeklong celebration of film in all its forms through carefully curated screenings and events\, both in and outside of the theaters. \nIn years past\, Fantastic Fest has been home to world premieres of THE BLACK PHONE\, JOHN WICK\, FRANKENWEENIE\, MACHETE KILLS\, RED DAWN\, THERE WILL BE BLOOD\, APOCALYPTO\, ZOMBIELAND\, RED\, SPLIT\, OVERLORD\, APOSTLE and THE NIGHT COMES FOR US\, while the guest roster has included such talent as Edgar Wright\, Julia Ducournau\, Noomi Rapace\, Bong Joon-Ho\, Tim Burton\, Nicolas Winding-Refn\, Lilly and Lana Wachowski\, Robert Rodriguez\, Rian Johnson\, Bill Murray\, Keanu Reeves\, Winona Ryder\, Edward Norton\, Ryan Reynolds\, Patrick Wilson\, Matthew Fox\, Josh Hartnett\, The RZA\, Dolph Lundgren\, Paul Rudd\, Bill Pullman\, Paul Thomas Anderson\, Kevin Smith\, Jon Favreau\, George Romero\, Darren Aronofsky\, Mike Judge\, M. Night Shyamalan\, James McAvoy\, Jonah Hill\, Jamie Lee Curtis\, Steven Yeun\, Danny McBride\, Tenacious D and more. \nFantastic Fest has been hailed as one of the “25 coolest film festivals” by MovieMaker Magazine\, “the wildest film festival in America” by The Guardian\, “a secret weapon for the arthouse market” by Indiewire as well as “the coolest film festival in the world” by IGN. \n  \nFANTASTIC FEST DEADLINES & FEES\nOpening Submission Date\nJanuary 13\, 2025 \nNotification Date\nAugust 22\, 2025 \nEvent Date\nSeptember 18–25\, 2025 \n  \n\n\n\n\nEarlybird\nRegular\nLate\nExtended Deadline\n\n\nFeature Films\nFeb 14\, 2025: $50\nApril 18\, 2025: $60\nMay 23\, 2025: $70\nJune 13\, 2025: $80\n\n\nShort Films\nFeb 14\, 2025: $40\nApril 18\, 2025: $45\nMay 23\, 2025: $50\nJune 13\, 2025: $60\n\n\nEpisodic\nFeb 14\, 2025: $40\nApril 18\, 2025: $45\nMay 23\, 2025: $50\nJune 13\, 2025: $60\n\n\n\nVisit the Fantastic Fest website for more information.
URL:https://motionpicturemaker.com/event/fantastic-fest-earlybird-deadline/
LOCATION:Alamo Drafthouse Cinema South Lamar\, 1120 S Lamar Blvd\, Austin\, TX\, 78704\, United States
CATEGORIES:Film Festivals
ATTACH;FMTTYPE=image/jpeg:https://motionpicturemaker.com/wp-content/uploads/2022/06/fantastic-fest-logo.jpg
END:VEVENT
END:VCALENDAR