BEGIN:VCALENDAR
VERSION:2.0
PRODID:-//MOTIONPICTUREMAKER.COM - ECPv6.15.15//NONSGML v1.0//EN
CALSCALE:GREGORIAN
METHOD:PUBLISH
X-WR-CALNAME:MOTIONPICTUREMAKER.COM
X-ORIGINAL-URL:https://motionpicturemaker.com
X-WR-CALDESC:Events for MOTIONPICTUREMAKER.COM
REFRESH-INTERVAL;VALUE=DURATION:PT1H
X-Robots-Tag:noindex
X-PUBLISHED-TTL:PT1H
BEGIN:VTIMEZONE
TZID:America/Vancouver
BEGIN:DAYLIGHT
TZOFFSETFROM:-0800
TZOFFSETTO:-0700
TZNAME:PDT
DTSTART:20240310T100000
END:DAYLIGHT
BEGIN:STANDARD
TZOFFSETFROM:-0700
TZOFFSETTO:-0800
TZNAME:PST
DTSTART:20241103T090000
END:STANDARD
BEGIN:DAYLIGHT
TZOFFSETFROM:-0800
TZOFFSETTO:-0700
TZNAME:PDT
DTSTART:20250309T100000
END:DAYLIGHT
BEGIN:STANDARD
TZOFFSETFROM:-0700
TZOFFSETTO:-0800
TZNAME:PST
DTSTART:20251102T090000
END:STANDARD
BEGIN:DAYLIGHT
TZOFFSETFROM:-0800
TZOFFSETTO:-0700
TZNAME:PDT
DTSTART:20260308T100000
END:DAYLIGHT
BEGIN:STANDARD
TZOFFSETFROM:-0700
TZOFFSETTO:-0800
TZNAME:PST
DTSTART:20261101T090000
END:STANDARD
END:VTIMEZONE
BEGIN:VEVENT
DTSTART;VALUE=DATE:20250604
DTEND;VALUE=DATE:20250616
DTSTAMP:20260424T064424
CREATED:20220720T012220Z
LAST-MODIFIED:20250715T035447Z
UID:408-1748995200-1750031999@motionpicturemaker.com
SUMMARY:Tribeca Film Festival
DESCRIPTION:New York\, New York\nUnited States\n  \nABOUT THE TRIBECA FILM FESTIVAL\nThe Tribeca Film Festival is an annual film festival organized by Tribeca Productions. It takes place each spring in New York City\, showcasing a diverse selection of film\, episodic\, talks\, music\, games\, art\, and immersive programming. Tribeca was founded by Robert De Niro\, Jane Rosenthal\, and Craig Hatkoff in 2002 to spur the economic and cultural revitalization of lower Manhattan following the 9/11 attacks on the World Trade Center. \nEach year the festival hosts over 600 screenings with approximately 150\,000 attendees\, and awards independent artists in 23 juried competitive categories. \nTribeca Enterprises is a multi-platform storytelling company\, founded in 2003 by Robert De Niro\, Jane Rosenthal & Craig Hatkoff. It provides artists with unique platforms to expand the audience for their work and broadens consumer access to experience storytelling\, independent film\, and media. The company operates a network of entertainment businesses including the Tribeca Festival; the Tribeca TV Festival; its branded entertainment production arm\, Tribeca Studios; and creative production company\, m ss ng p eces. In 2019\, James Murdoch’s Lupa Systems bought a majority stake in Tribeca Enterprises\, bringing together Rosenthal\, De Niro\, and Murdoch to grow the enterprise. \n  \nDEADLINES & FEES\nOpening Submission Date\nTBA \nNotification Date\nTBA \nEvent Date\nJune 4 – 15\, 2025 \n  \n\n\n\n\nEarly\nOfficial\nFinal\n\n\nFeature Films\nTBA: $65\nTBA: $85\nTBA: $110\n\n\nShort Films\nTBA: $50\nTBA: $60\nTBA: $75\n\n\nTribeca NOW\nTBA: $40\nTBA: $60\nTBA: $80\n\n\n\nVisit the Tribeca Film Festival website for more information.
URL:https://motionpicturemaker.com/event/tribeca-film-festival/
LOCATION:BMCC Tribeca Performing Arts Center\, 199 Chambers St\, New York\, NY\, 10007\, United States
CATEGORIES:Film Festivals
ATTACH;FMTTYPE=image/jpeg:https://motionpicturemaker.com/wp-content/uploads/2022/06/tribeca-film-festival-logo.jpg
END:VEVENT
END:VCALENDAR