BEGIN:VCALENDAR
VERSION:2.0
PRODID:-//MOTIONPICTUREMAKER.COM - ECPv6.15.15//NONSGML v1.0//EN
CALSCALE:GREGORIAN
METHOD:PUBLISH
X-WR-CALNAME:MOTIONPICTUREMAKER.COM
X-ORIGINAL-URL:https://motionpicturemaker.com
X-WR-CALDESC:Events for MOTIONPICTUREMAKER.COM
REFRESH-INTERVAL;VALUE=DURATION:PT1H
X-Robots-Tag:noindex
X-PUBLISHED-TTL:PT1H
BEGIN:VTIMEZONE
TZID:America/Vancouver
BEGIN:DAYLIGHT
TZOFFSETFROM:-0800
TZOFFSETTO:-0700
TZNAME:PDT
DTSTART:20240310T100000
END:DAYLIGHT
BEGIN:STANDARD
TZOFFSETFROM:-0700
TZOFFSETTO:-0800
TZNAME:PST
DTSTART:20241103T090000
END:STANDARD
BEGIN:DAYLIGHT
TZOFFSETFROM:-0800
TZOFFSETTO:-0700
TZNAME:PDT
DTSTART:20250309T100000
END:DAYLIGHT
BEGIN:STANDARD
TZOFFSETFROM:-0700
TZOFFSETTO:-0800
TZNAME:PST
DTSTART:20251102T090000
END:STANDARD
BEGIN:DAYLIGHT
TZOFFSETFROM:-0800
TZOFFSETTO:-0700
TZNAME:PDT
DTSTART:20260308T100000
END:DAYLIGHT
BEGIN:STANDARD
TZOFFSETFROM:-0700
TZOFFSETTO:-0800
TZNAME:PST
DTSTART:20261101T090000
END:STANDARD
END:VTIMEZONE
BEGIN:VEVENT
DTSTART;VALUE=DATE:20250701
DTEND;VALUE=DATE:20250702
DTSTAMP:20260424T052341
CREATED:20250714T211831Z
LAST-MODIFIED:20250715T205212Z
UID:3732-1751328000-1751414399@motionpicturemaker.com
SUMMARY:Miami Film Festival Open For Submissions
DESCRIPTION:Miami\, Florida\nUnited States\n  \nABOUT THE MIAMI FILM FESTIVAL\nMiami Film Festival is a world-class platform for International\, American\, and Ibero-American films. The Festival showcases the work of the world’s best emerging and established filmmakers to the diverse cosmopolitan community of Miami. Cash awards totaling more than $100\,000 are given in competition categories. \nIn recent years\, the Miami Film Festival has attracted approximately 45\,000 people a year\, as well as 300 filmmakers\, producers\, talent and industry professionals from around the world as it showcases more than 100 feature narratives\, documentaries and short films of all genres\, from 40 different countries. Highlights of recent festivals have included award presentations and exclusive in-depth conversations with film legends Pedro Almodovar\, Penelope Cruz\, Rita Moreno\, Riz Ahmed\, Ramin Bahrani\, Ryusuke Hamaguchi\, Aldis Hodge\, Javier Camara\, Andra Day\, Ari Wegner\, Cristobal Tapia de Veer\, and Joshua James Richards; and numerous World and International Premieres. \nThe Festival also hosts dozens of world-class events every year\, including the Mercado de Cine Frances y Europeo\, which brings together over 40 buyers and sellers from Europe and Latin America; annual events in partnership with VARIETY\, including The International Feature Film Award Roundtable; as well as numerous workshops\, masterclasses\, legendary parties\, and industry happy hours. \nHistorically\, the Festival has had the privilege of hosting a noted group of filmmakers and talent\, including Barry Jenkins\, Isabelle Huppert\, Carlos Saura\, Richard Gere\, Rashida Jones\, Sarah Jessica Parker\, Lena Olin\, Pablo Larrain\, Edward James Olmos\, Monica Bellucci\, Rossy de Palma\, Gloria and Emilio Estefan\, Spike Lee\, Andy Garcia\, Patricia Clarkson\, Stella Meghie\, Joe Talbot\, Jason Reitman\, Lulu Wang and countless more. Simultaneously\, it strives to be a beacon of support to local filmmaking talent and has elevated the work of numerous local filmmakers via exciting marquee screenings and generous cash awards like the Knight Made in MIA prize for locally-produced features and shorts. \nMajor trade publications such as Variety\, The Hollywood Reporter\, Screen and Indiewire attend for coverage and reviews of the films. Miami Film Festival has also made the prestigious “One of the 50 Film Festivals Worth The Entry Fee” list by Moviemaker Magazine in recent years. \n  \nDEADLINES & FEES\nOpening Submission Date\nJuly 1\, 2025 \nNotification Date\nFebruary 18\, 2026 \nEvent Date\nApril 9 - 13\, 2026 \n  \n\n\n\n\nEarlybird\nRegular\nLate\nExtended\n\n\nAll Genres/Lengths\nSept 1\, 2025\nNov 1\, 2025\nDec 15\, 2025\nJan 5\, 2026\n\n\n\nVisit the Miami Film Festival website for more information.
URL:https://motionpicturemaker.com/event/miami-film-festival-open-for-submissions/
LOCATION:N/A
CATEGORIES:Film Festivals
ATTACH;FMTTYPE=image/jpeg:https://motionpicturemaker.com/wp-content/uploads/2022/06/miami-film-festival-logo.jpg
END:VEVENT
BEGIN:VEVENT
DTSTART;VALUE=DATE:20250701
DTEND;VALUE=DATE:20250702
DTSTAMP:20260424T052341
CREATED:20250715T011618Z
LAST-MODIFIED:20250715T214203Z
UID:415-1751328000-1751414399@motionpicturemaker.com
SUMMARY:Telluride Film Festival Submission Deadline
DESCRIPTION:Telluride\, Colorado\nUnited States\n  \nABOUT THE TELLURIDE FILM FESTIVAL\nEach Labor Day weekend\, the tiny mountain village of Telluride\, Colorado triples in size for the Telluride Film Festival. Swells of passionate film enthusiasts flood the town for four days of total cinematic immersion\, embarking on a viewing odyssey\, blissfully spending entire days in flickering dark rooms. With only an appreciation of celluloid to guide them\, these devotees flock to the show\, year after year. Why? Blind faith. We don’t reveal the program until everyone lands in town. Yet the Telluride family trusts that a unique experience will unfold. \nThe Telluride Film Festival is not just a picture show. It is Tributes to luminaries who've propelled the medium forward; it is candid discussions with a film’s creator or the historian who champions it; it is discovering that the person in line behind you made the film you just enjoyed; it is engaging in lively debate with every manner of film lover in the summer sun of a Colorado afternoon\, always minutes away from a new exhibition. Our audiences were the first in the world to laugh with JUNO\, to observe THE LIVES OF OTHERS\, to visit BROKEBACK MOUNTAIN\, to learn the secret of THE CRYING GAME\, to experience BLUE VELVET\, and to witness THE CIVIL WAR. We resurrected the silent epic NAPOLEON\, and highlighted the genius of animator Chuck Jones. \nWe take great pains to remain not a competition\, but a celebration of the best in film — past\, present and future — from all around the world. This is one weekend immersed in an unabashed carnival of film: viewing\, breathing\, eating\, and talking cinema. This is The SHOW. \n  \nGENERAL INFORMATION\nDeadline: Feature\, Student and Short films must be submitted no earlier than April 15th \, and no later than July 1st\, 2025. Early or late entries will not be accepted. \nSubmit as early as possible! Once the submission period is open\, submitting as early as possible not only allows more time for consideration\, but you will also not run the risk of missing the deadline. No late submissions will be considered at all. \nFinish line: All submissions (for all catagories) must have been completed after last year's submission deadline of July 1st\, 2024 . We will only accept works-in-progress with picture lock. Please note that we do NOT accept updated versions. \nScreening Status: With very rare exceptions\, feature length films (60 minutes or longer) will only be considered if they are to have their first North American screenings at TFF. Any domestic public exposure prior to our Labor Day event may preclude the work from eligibility. (This applies mainly to features\, we’re not so sticky about short films. However\, we do not accept shorts that have been released online prior to the Festival.) \nSubmission Method: All films must be submitted via a secure URL link and made accessible through August 1st\, 2024.  All films submitted must be downloadable.  The Telluride Film Festival is committed to the privacy and creative property of all filmmakers\, and downloads will be shared internally for programming consideration purposes only. If there are changes to the accessibility of your link\, you must contact the Festival ASAP via email: submissions@telluridefilmfestival.org \nPresentation Format: If your film is accepted for exhibition\, Telluride Film Festival accepts 35mm and DCP for screenings. \nFestival Notification: Final program determinations will be made by August 1st. You will be notified in writing by the first week of August whether your film has been invited to screen with us or not. Except in emergencies\, please do not call the Festival office for disposition. \nImportant reminder for all Filmmaker's submissions: If your film is accepted\, invitations may be sent as late as the first week of August. Please provide all the requested contact information\, especially where and how we can contact the Filmmakers themselves at that time! \n  \nDEADLINES & FEES\nOpening Submission Date\nApril 15\, 2025 \nNotification Date\nAugust 1\, 2025 \nEvent Date\nAugust 29  - September 1\, 2025 \n  \n\n\n\n\nDeadline\n\n\nFeature Films (60 mins. or longer)\nJuly 1\, 2025: $95\n\n\nShort Films (40-59 minutes)\nJuly 1\, 2025: $85\n\n\nShort Films (20-39 Minutes)\nJuly 1\, 2025: $65\n\n\nShort Films (19 Minutes and less)\nJuly 1\, 2025: $45\n\n\nStudent Films (All Lengths)\nJuly 1\, 2025: $35\n\n\n\n  \nVisit the Telluride Film Festival website for more information. \n  \n\n\nVIEW THE EVENT CALENDAR\n  \n 
URL:https://motionpicturemaker.com/event/telluride-film-festival-submission-deadline/
LOCATION:Sheridan Opera House\, 110 N Oak Street\, Telluride\, CO\, 81435\, United States
CATEGORIES:Film Festivals
ATTACH;FMTTYPE=image/jpeg:https://motionpicturemaker.com/wp-content/uploads/2022/06/telluride-film-festival-logo.jpg
END:VEVENT
BEGIN:VEVENT
DTSTART;VALUE=DATE:20250701
DTEND;VALUE=DATE:20250702
DTSTAMP:20260424T052341
CREATED:20250922T214629Z
LAST-MODIFIED:20250923T045343Z
UID:3739-1751328000-1751414399@motionpicturemaker.com
SUMMARY:Santa Barbara International Film Festival Open For Submissions
DESCRIPTION:Santa Barbara\, California\nUnited States\n  \nABOUT THE SANTA BARBARA INTERNATIONAL FILM FESTIVAL\nThe Santa Barbara International Film Festival (SBIFF) is a 501(c)(3) non-profit arts and educational organization. Over the past 35 years\, SBIFF has become one of the leading film festivals in the United States – attracting 100\,000 attendees and offering 11 days of 200+ films\, tributes and panels\, fulfilling their mission to engage\, enrich\, and inspire people through the power of film. We celebrate the art of cinema and provide impactful educational experiences for our local\, national and global communities. \nSBIFF continues its commitment to education and the community through our many free educational programs and events. In June 2016\, SBIFF entered a new era with the acquisition of the historic and beloved Riviera Theatre. After a capital campaign and renovation\, the theatre is now SBIFF’s new state-of-the-art\, year-round home\, showing new international and independent films every day. In May 2019\, SBIFF opened its own Education Center in downtown Santa Barbara on State Street to serve as a home for its many educational programs and a place for creativity and learning. \n  \nDEADLINES & FEES\nOpening Submission Date\nJuly 1\, 2025 \nNotification Date\nJanuary 9\, 2026 \nEvent Date\nFebruary 4 - 14\, 2026 \n  \n\n\n\n\nEarlybird\nRegular\nLate\nFinal\n\n\nFeature Films\nAug 8\, 2025: $70\nSept 19\, 2025: $90\nOct 31\, 2025: $115\nDec 3\, 2025: $125\n\n\nShort Films\nAug 8\, 2025: $50\nSept 19\, 2025: $60\nOct 31\, 2025: $70\nDec 3\, 2025: $80\n\n\n\nVisit the Santa Barbara International Film Festival website for more information. \n\n\nVIEW THE EVENT CALENDAR
URL:https://motionpicturemaker.com/event/santa-barbara-international-film-festival-open-for-submissions/
LOCATION:Riviera Theatre\, 2044 Alameda Padre Serra\, Santa Barbara\, CA\, 93103\, United States
CATEGORIES:Film Festivals
ATTACH;FMTTYPE=image/jpeg:https://motionpicturemaker.com/wp-content/uploads/2022/06/santa-barbara-international-film-festival-logo.jpg
END:VEVENT
END:VCALENDAR