BEGIN:VCALENDAR
VERSION:2.0
PRODID:-//MOTIONPICTUREMAKER.COM - ECPv6.15.15//NONSGML v1.0//EN
CALSCALE:GREGORIAN
METHOD:PUBLISH
X-WR-CALNAME:MOTIONPICTUREMAKER.COM
X-ORIGINAL-URL:https://motionpicturemaker.com
X-WR-CALDESC:Events for MOTIONPICTUREMAKER.COM
REFRESH-INTERVAL;VALUE=DURATION:PT1H
X-Robots-Tag:noindex
X-PUBLISHED-TTL:PT1H
BEGIN:VTIMEZONE
TZID:America/Vancouver
BEGIN:DAYLIGHT
TZOFFSETFROM:-0800
TZOFFSETTO:-0700
TZNAME:PDT
DTSTART:20240310T100000
END:DAYLIGHT
BEGIN:STANDARD
TZOFFSETFROM:-0700
TZOFFSETTO:-0800
TZNAME:PST
DTSTART:20241103T090000
END:STANDARD
BEGIN:DAYLIGHT
TZOFFSETFROM:-0800
TZOFFSETTO:-0700
TZNAME:PDT
DTSTART:20250309T100000
END:DAYLIGHT
BEGIN:STANDARD
TZOFFSETFROM:-0700
TZOFFSETTO:-0800
TZNAME:PST
DTSTART:20251102T090000
END:STANDARD
BEGIN:DAYLIGHT
TZOFFSETFROM:-0800
TZOFFSETTO:-0700
TZNAME:PDT
DTSTART:20260308T100000
END:DAYLIGHT
BEGIN:STANDARD
TZOFFSETFROM:-0700
TZOFFSETTO:-0800
TZNAME:PST
DTSTART:20261101T090000
END:STANDARD
END:VTIMEZONE
BEGIN:VEVENT
DTSTART;VALUE=DATE:20250827
DTEND;VALUE=DATE:20250907
DTSTAMP:20260421T032243
CREATED:20220720T010258Z
LAST-MODIFIED:20250719T210953Z
UID:627-1756252800-1757203199@motionpicturemaker.com
SUMMARY:Venice Film Festival
DESCRIPTION:Venice\, Italy\n  \nABOUT THE VENICE FILM FESTIVAL\n\n\n\n\nThe 82nd Venice International Film Festival is organised by La Biennale di Venezia and directed by Alberto Barbera. It will run on the Lido di Venezia from 27 August to 6 September 2025. The Festival is officially recognised by the FIAPF (International Federation of Film Producers Association). \n\n\nThe aim of the Festival is to raise awareness and promote international cinema in all its forms as art\, entertainment and as an industry\, in a spirit of freedom and dialogue. One section is devoted to enhance the restoration works on classic films as a contribution towards a better understanding of the history of cinema. \n\n\n\n\n  \nDEADLINES & FEES\nOpening Submission Date\nFebruary 3\, 2025 \nEvent Date\nAugust 27 - September 9\, 2025 \n  \nSUBMISSIONS\nSubmissions for feature films\, short films and immersive projects to the 81st Venice International Film Festival will open on 3 February 2025. \nSUBMISSION FOR FEATURE FILMS\nDeadline: 13 June\nSubmission fee:  € 200 until 31 May / € 250 from 1 June \nSUBMISSION FOR SHORT FILMS\nDeadline: 31 May\nSubmission fee:  € 80 until 30 April / € 100 from 1 May / Film schools: € 250 for a maximum of 10 submissions \nSUBMISSION FOR IMMERSIVE PROJECTS\nDeadline: 8 May\nSubmission fee:  € 200 until 30 April / € 250 from 1 May \n  \nOnly feature and short films presented as world premieres\, and immersive projects presented as world or international premiere\, are eligible. All works must have been completed after September 7\, 2024. \nREGULATIONS\nFAQ \nVisit the Venice Film Festival website for more information. \n  \n\n\nVIEW THE EVENT CALENDAR
URL:https://motionpicturemaker.com/event/venice-film-festival/
LOCATION:CA’ GIUSTINIAN\, SAN MARCO 1364/A\, Venice\, 30124\, Italy
CATEGORIES:Film Festivals
ATTACH;FMTTYPE=image/jpeg:https://motionpicturemaker.com/wp-content/uploads/2022/06/venice-film-festival-logo.jpg
ORGANIZER;CN="La Biennale di Venezia":MAILTO:info@labiennale.org
END:VEVENT
END:VCALENDAR