BEGIN:VCALENDAR
VERSION:2.0
PRODID:-//MOTIONPICTUREMAKER.COM - ECPv6.15.15//NONSGML v1.0//EN
CALSCALE:GREGORIAN
METHOD:PUBLISH
X-WR-CALNAME:MOTIONPICTUREMAKER.COM
X-ORIGINAL-URL:https://motionpicturemaker.com
X-WR-CALDESC:Events for MOTIONPICTUREMAKER.COM
REFRESH-INTERVAL;VALUE=DURATION:PT1H
X-Robots-Tag:noindex
X-PUBLISHED-TTL:PT1H
BEGIN:VTIMEZONE
TZID:America/Vancouver
BEGIN:DAYLIGHT
TZOFFSETFROM:-0800
TZOFFSETTO:-0700
TZNAME:PDT
DTSTART:20240310T100000
END:DAYLIGHT
BEGIN:STANDARD
TZOFFSETFROM:-0700
TZOFFSETTO:-0800
TZNAME:PST
DTSTART:20241103T090000
END:STANDARD
BEGIN:DAYLIGHT
TZOFFSETFROM:-0800
TZOFFSETTO:-0700
TZNAME:PDT
DTSTART:20250309T100000
END:DAYLIGHT
BEGIN:STANDARD
TZOFFSETFROM:-0700
TZOFFSETTO:-0800
TZNAME:PST
DTSTART:20251102T090000
END:STANDARD
BEGIN:DAYLIGHT
TZOFFSETFROM:-0800
TZOFFSETTO:-0700
TZNAME:PDT
DTSTART:20260308T100000
END:DAYLIGHT
BEGIN:STANDARD
TZOFFSETFROM:-0700
TZOFFSETTO:-0800
TZNAME:PST
DTSTART:20261101T090000
END:STANDARD
END:VTIMEZONE
BEGIN:VEVENT
DTSTART;VALUE=DATE:20250926
DTEND;VALUE=DATE:20251014
DTSTAMP:20260419T091446
CREATED:20250715T004532Z
LAST-MODIFIED:20250715T035052Z
UID:438-1758844800-1760399999@motionpicturemaker.com
SUMMARY:New York Film Festival
DESCRIPTION:New York\, New York\nUnited States\n  \nABOUT THE NEW YORK FILM FESTIAL\nFilm at Lincoln Center is devoted to supporting the art and elevating the craft of cinema. The only branch of the world-renowned arts complex Lincoln Center to shine a light on the everlasting yet evolving importance of the moving image\, this nonprofit organization was founded in 1969 to celebrate American and international film. Via year-round programming and discussions; its annual New York Film Festival; and its publications\, including Film Comment\, the U.S.’s premier magazine about films and film culture\, Film at Lincoln Center endeavors to make the discussion and appreciation of cinema accessible to a broader audience\, as well as to ensure that it will remain an essential art form for years to come. \nAs an independent constituent of the world’s foremost performing arts center\, Film at Lincoln Center presents year-round programming that includes premieres of new films from an international roster of established and emerging directors\, major retrospectives\, in-depth filmmaker talks\, and high profile events. Film at Lincoln Center is one of those rare institutions whose stature is matched by its popularity\, each year welcoming an aggregate audience of more than 200\,000 film aficionados\, filmmakers\, and industry leaders of every nationality\, age\, economic\, and ethnic group. The organization has been a pioneer among film institutions and one of the film world’s most respected and influential arbiters of cinematic trends and discoveries. Martin Scorsese\, Rainer Werner Fassbinder\, Agnès Varda\, Wong Kar-Wai\, Pedro Almodóvar\, Spike Lee\, Wes Anderson—over the last four decades there is scarcely a major director who has not been introduced to American audiences by Film at Lincoln Center. \nFilm at Lincoln Center is best known for two world-class international festivals—the New York Film Festival (the most famous and prestigious in the country)\, and New Directors/New Films (celebrating new cinematic artists). It runs two state-of-the-art\, year-round cinemas\, the Walter Reade Theater (268 seats) and the Elinor Bunin Munroe Film Center—Francesca Beale Theater (150 seats)\, Howard Gilman Theater (90 seats)\, and Amphitheater (75 seats)—and publishes the country’s most respected cinematic journal\, Film Comment. Each year the organization presents its annual Chaplin Award Gala Tribute honoring legendary stars and industry leaders of our generation at Lincoln Center’s Alice Tully Hall. At various times of the year\, Film at Lincoln Center partners with Hollywood studios to present premieres and special live appearances. \nFilm at Lincoln Center is a proud supporter of the International Federation of Film Archives (FIAF). \nDEADLINES & FEES\nOpening Date\nFebruary 24\, 2025 \nNotification Date\nAugust 15\, 2025 \nEvent Date\nSeptember 26 – October 13\, 2025 \n  \n\n\n\n\nSuper Early\, Early\, Earlybird\nEarly\, Early\, Earlybird\nEarly\, Earlybird\nEarlybird\nRegular\nRegular Extended\nExtended\nLate\nExtended Late\nFinal\n\n\nFeature/Short All Genres\nTBA: $40\nTBA: $45\nTBA: $50\nTBA: $60\nTBA: $70\nTBA: $80\nTBA: $90\nTBA: $95\nTBA: $100\nTBA: $110\n\n\n\n  \nVisit the New York Film Festival website for more information. \n  \n\n\nVIEW THE EVENT CALENDAR
URL:https://motionpicturemaker.com/event/new-york-film-festival/
LOCATION:Lincoln Center for the Performing Arts\, 70 Lincoln Center Plaza #4\, New York\, New York\, 10023\, Canada
CATEGORIES:Film Festivals
ATTACH;FMTTYPE=image/jpeg:https://motionpicturemaker.com/wp-content/uploads/2022/06/new-york-film-festival-logo.jpg
ORGANIZER;CN="Film at Lincoln Center":MAILTO:info@filmlinc.org
END:VEVENT
BEGIN:VEVENT
DTSTART;VALUE=DATE:20251001
DTEND;VALUE=DATE:20251002
DTSTAMP:20260419T091446
CREATED:20250922T145704Z
LAST-MODIFIED:20250923T052907Z
UID:2991-1759276800-1759363199@motionpicturemaker.com
SUMMARY:Canadian Screen Awards Call For Entries
DESCRIPTION:Toronto\, Ontario\nCanada\n  \nABOUT THE CANADIAN SCREEN AWARDS\nThe Canadian Screen Awards brings together the screen-based industry annually to celebrate the country’s top talent in the film\, television and digital sectors at Canadian Screen Week. In 2013\, the Canadian Screen Awards were born as the result of a merger of the Academy’s Gemini and Genie Awards\, which\, respectively\, honoured English-language television and film. \nRules and Regulations\nTelevision & Digital Media - Important Dates \nEligibility Period (excluding News & Sports)\nSeptember 1\, 2024 to November 15\, 2025 \nEligibility Period (News & Sports)\nSeptember 1\, 2024 to August 31\, 2025 \nFilm - Important Dates \nEligibility Period\nJanuary 1\, 2025 to March 31\, 2026 \nDEADLINES\nCall for Entries\nOctober 1\, 2025 \nNominee Announcement\nMarch 25\, 2026 \nEvent Date\nTBA \n  \n\n\n\n\nEarly Bird\nFinal\n\n\nTelevision & Digital Media\nOct 24\, 2025\nNov 3\, 2025\n\n\nFilm\nOct 24\, 2025\nNov 3\, 2025\n\n\n\nVisit the Canadian Screen Awards website for more information. \n\n\nVIEW THE EVENT CALENDAR
URL:https://motionpicturemaker.com/event/canadian-screen-awards-call-for-entries/
LOCATION:N/A
CATEGORIES:Awards
ATTACH;FMTTYPE=image/jpeg:https://motionpicturemaker.com/wp-content/uploads/2023/08/canadian-screen-awards-logo.jpg
END:VEVENT
BEGIN:VEVENT
DTSTART;VALUE=DATE:20251001
DTEND;VALUE=DATE:20251002
DTSTAMP:20260419T091446
CREATED:20251006T195835Z
LAST-MODIFIED:20251007T022726Z
UID:3866-1759276800-1759363199@motionpicturemaker.com
SUMMARY:Minneapolis St. Paul International Film Festival Regular Deadline
DESCRIPTION:Minneapolis\, Minnesota\nUnited States\n  \nABOUT THE MINNEAPOLIS ST. PAUL INTERNATIONAL FILM FESTIVAL (MSPIFF)\nFounded in 1962\, The Film Society of Minneapolis St. Paul (MSP Film) is Minnesota’s foremost film exhibition organization\, and a 501(c)(3) non-profit. We bring the best of international and independent cinema to Minnesota audiences through the Minneapolis St. Paul International Film Festival\, numerous niche film festivals and series\, and daily programming 365-days a year. \nWe promote the art of film as a medium that fosters cross-cultural understanding\, education\, entertainment\, and exploration. We offer audiences unique opportunities to experience the wealth of international cinema\, to engage with and learn from visiting international filmmakers\, and to come together and share these experiences as a community. \nOur programming serves a growing membership base and diversifying audiences of 85\,000+ annually. \nMSP Film is best known for the annual centerpiece\, the Minneapolis St. Paul International Film Festival (MSPIFF). Presented every April\, MSPIFF is the largest international arts event in the region\, exhibiting more than 250+ films from some 70 countries each year and drawing growing audiences of nearly 50\,000 in 2016. \nAll films are presented in their original language with English subtitles for non-English dialogue. \nOUR MISSION\nThe Mission of MSP Film is to foster a knowledgeable and vibrant appreciation of the art of film and its power to unite\, inform and transform individuals and communities. \nOur mission is accomplished through a commitment to exhibiting the very best of new and classic local\, domestic and international independent cinema. These notable award-winning films represent many perspectives and experiences and are\, for the most part\, simply not otherwise available to audiences in the region. And so\, through the power of great cinema\, we expose our audiences\, in a unique way\, to a rare mix of cultures\, ideas\, current affairs and notable filmmaking from around the world. \nOur mission is carried out through the annual Minneapolis St. Paul International Film Festival\, regular special themed series\, and daily screenings of new releases and classics from around the globe. \nDEADLINES & FEES\nOpening Submission Date\nJuly 15\, 2025 \nNotification Date\nMarch 10\, 2026 \nEvent Date\nApril 8 - 19\, 2026 \n\n\n\n\nEarlybird\nRegular\nLate\nExtended\n\n\nFeature Films\nSept 1\, 2025: $45 USD\nOct 1\, 2025: $60 USD\nNov 1\, 2025: $75 USD\nDec 1\, 2025: $90 USD\n\n\nShort Films\nSept 1\, 2025: $30 USD\nOct 1\, 2025: $45 USD\nNov 1\, 2025: $60 USD\nDec 1\, 2025: $75 USD\n\n\nNext Wave\nSept 1\, 2025: $0 USD\nOct 1\, 2025: $0 USD\nNov 1\, 2025: $0 USD\nDec 1\, 2025: $0 USD\n\n\n\nVisit the Minneapolis St. Paul International Film Festival website for more information. \n\n\nVIEW THE EVENT CALENDAR\n 
URL:https://motionpicturemaker.com/event/minneapolis-st-paul-international-film-festival-regular-deadline/
LOCATION:The Main Theatre\, 115 SE Main Street\, Minneapolis\, MN\, 55414\, United States
CATEGORIES:Film Festivals
ATTACH;FMTTYPE=image/jpeg:https://motionpicturemaker.com/wp-content/uploads/2022/06/minneapolis-st-paul-international-film-festival-logo.jpg
ORGANIZER;CN="MSP Film Society":MAILTO:info@mspfilm.org
END:VEVENT
END:VCALENDAR