BEGIN:VCALENDAR
VERSION:2.0
PRODID:-//MOTIONPICTUREMAKER.COM - ECPv6.15.15//NONSGML v1.0//EN
CALSCALE:GREGORIAN
METHOD:PUBLISH
X-WR-CALNAME:MOTIONPICTUREMAKER.COM
X-ORIGINAL-URL:https://motionpicturemaker.com
X-WR-CALDESC:Events for MOTIONPICTUREMAKER.COM
REFRESH-INTERVAL;VALUE=DURATION:PT1H
X-Robots-Tag:noindex
X-PUBLISHED-TTL:PT1H
BEGIN:VTIMEZONE
TZID:America/Vancouver
BEGIN:DAYLIGHT
TZOFFSETFROM:-0800
TZOFFSETTO:-0700
TZNAME:PDT
DTSTART:20240310T100000
END:DAYLIGHT
BEGIN:STANDARD
TZOFFSETFROM:-0700
TZOFFSETTO:-0800
TZNAME:PST
DTSTART:20241103T090000
END:STANDARD
BEGIN:DAYLIGHT
TZOFFSETFROM:-0800
TZOFFSETTO:-0700
TZNAME:PDT
DTSTART:20250309T100000
END:DAYLIGHT
BEGIN:STANDARD
TZOFFSETFROM:-0700
TZOFFSETTO:-0800
TZNAME:PST
DTSTART:20251102T090000
END:STANDARD
BEGIN:DAYLIGHT
TZOFFSETFROM:-0800
TZOFFSETTO:-0700
TZNAME:PDT
DTSTART:20260308T100000
END:DAYLIGHT
BEGIN:STANDARD
TZOFFSETFROM:-0700
TZOFFSETTO:-0800
TZNAME:PST
DTSTART:20261101T090000
END:STANDARD
END:VTIMEZONE
BEGIN:VEVENT
DTSTART;VALUE=DATE:20251103
DTEND;VALUE=DATE:20251104
DTSTAMP:20260421T012405
CREATED:20250922T161217Z
LAST-MODIFIED:20250923T053714Z
UID:3009-1762128000-1762214399@motionpicturemaker.com
SUMMARY:Canadian Screen Awards Final Deadline
DESCRIPTION:Toronto\, Ontario\nCanada\n  \nABOUT THE CANADIAN SCREEN AWARDS\nThe Canadian Screen Awards brings together the screen-based industry annually to celebrate the country’s top talent in the film\, television and digital sectors at Canadian Screen Week. In 2013\, the Canadian Screen Awards were born as the result of a merger of the Academy’s Gemini and Genie Awards\, which\, respectively\, honoured English-language television and film. \nRules and Regulations\nTelevision & Digital Media - Important Dates \nEligibility Period (excluding News & Sports)\nSeptember 1\, 2024 to November 15\, 2025 \nEligibility Period (News & Sports)\nSeptember 1\, 2024 to August 31\, 2025 \nFilm - Important Dates \nEligibility Period\nJanuary 1\, 2025 to March 31\, 2026 \nDEADLINES\nCall for Entries\nOctober 1\, 2025 \nNominee Announcement\nMarch 25\, 2026 \nEvent Date\nTBA \n  \n\n\n\n\nEarly Bird\nFinal\n\n\nTelevision & Digital Media\nOct 24\, 2025\nNov 3\, 2025\n\n\nFilm\nOct 24\, 2025\nNov 3\, 2025\n\n\n\nVisit the Canadian Screen Awards website for more information. \n\n\nVIEW THE EVENT CALENDAR
URL:https://motionpicturemaker.com/event/canadian-screen-awards-final-deadline/
LOCATION:N/A
CATEGORIES:Awards
ATTACH;FMTTYPE=image/jpeg:https://motionpicturemaker.com/wp-content/uploads/2023/08/canadian-screen-awards-logo.jpg
END:VEVENT
END:VCALENDAR