BEGIN:VCALENDAR
VERSION:2.0
PRODID:-//MOTIONPICTUREMAKER.COM - ECPv6.15.15//NONSGML v1.0//EN
CALSCALE:GREGORIAN
METHOD:PUBLISH
X-WR-CALNAME:MOTIONPICTUREMAKER.COM
X-ORIGINAL-URL:https://motionpicturemaker.com
X-WR-CALDESC:Events for MOTIONPICTUREMAKER.COM
REFRESH-INTERVAL;VALUE=DURATION:PT1H
X-Robots-Tag:noindex
X-PUBLISHED-TTL:PT1H
BEGIN:VTIMEZONE
TZID:America/Vancouver
BEGIN:DAYLIGHT
TZOFFSETFROM:-0800
TZOFFSETTO:-0700
TZNAME:PDT
DTSTART:20240310T100000
END:DAYLIGHT
BEGIN:STANDARD
TZOFFSETFROM:-0700
TZOFFSETTO:-0800
TZNAME:PST
DTSTART:20241103T090000
END:STANDARD
BEGIN:DAYLIGHT
TZOFFSETFROM:-0800
TZOFFSETTO:-0700
TZNAME:PDT
DTSTART:20250309T100000
END:DAYLIGHT
BEGIN:STANDARD
TZOFFSETFROM:-0700
TZOFFSETTO:-0800
TZNAME:PST
DTSTART:20251102T090000
END:STANDARD
BEGIN:DAYLIGHT
TZOFFSETFROM:-0800
TZOFFSETTO:-0700
TZNAME:PDT
DTSTART:20260308T100000
END:DAYLIGHT
BEGIN:STANDARD
TZOFFSETFROM:-0700
TZOFFSETTO:-0800
TZNAME:PST
DTSTART:20261101T090000
END:STANDARD
END:VTIMEZONE
BEGIN:VEVENT
DTSTART;VALUE=DATE:20250415
DTEND;VALUE=DATE:20250416
DTSTAMP:20260424T082734
CREATED:20250715T011629Z
LAST-MODIFIED:20250715T213851Z
UID:417-1744675200-1744761599@motionpicturemaker.com
SUMMARY:Telluride Film Festival Open For Submissions
DESCRIPTION:Telluride\, Colorado\nUnited States\n  \nABOUT THE TELLURIDE FILM FESTIVAL\nEach Labor Day weekend\, the tiny mountain village of Telluride\, Colorado triples in size for the Telluride Film Festival. Swells of passionate film enthusiasts flood the town for four days of total cinematic immersion\, embarking on a viewing odyssey\, blissfully spending entire days in flickering dark rooms. With only an appreciation of celluloid to guide them\, these devotees flock to the show\, year after year. Why? Blind faith. We don’t reveal the program until everyone lands in town. Yet the Telluride family trusts that a unique experience will unfold. \nThe Telluride Film Festival is not just a picture show. It is Tributes to luminaries who've propelled the medium forward; it is candid discussions with a film’s creator or the historian who champions it; it is discovering that the person in line behind you made the film you just enjoyed; it is engaging in lively debate with every manner of film lover in the summer sun of a Colorado afternoon\, always minutes away from a new exhibition. Our audiences were the first in the world to laugh with JUNO\, to observe THE LIVES OF OTHERS\, to visit BROKEBACK MOUNTAIN\, to learn the secret of THE CRYING GAME\, to experience BLUE VELVET\, and to witness THE CIVIL WAR. We resurrected the silent epic NAPOLEON\, and highlighted the genius of animator Chuck Jones. \nWe take great pains to remain not a competition\, but a celebration of the best in film — past\, present and future — from all around the world. This is one weekend immersed in an unabashed carnival of film: viewing\, breathing\, eating\, and talking cinema. This is The SHOW. \n  \nGENERAL INFORMATION\nDeadline: Feature\, Student and Short films must be submitted no earlier than April 15th \, and no later than July 1st\, 2025. Early or late entries will not be accepted. \nSubmit as early as possible! Once the submission period is open\, submitting as early as possible not only allows more time for consideration\, but you will also not run the risk of missing the deadline. No late submissions will be considered at all. \nFinish line: All submissions (for all catagories) must have been completed after last year's submission deadline of July 1st\, 2024 . We will only accept works-in-progress with picture lock. Please note that we do NOT accept updated versions. \nScreening Status: With very rare exceptions\, feature length films (60 minutes or longer) will only be considered if they are to have their first North American screenings at TFF. Any domestic public exposure prior to our Labor Day event may preclude the work from eligibility. (This applies mainly to features\, we’re not so sticky about short films. However\, we do not accept shorts that have been released online prior to the Festival.) \nSubmission Method: All films must be submitted via a secure URL link and made accessible through August 1st\, 2024.  All films submitted must be downloadable.  The Telluride Film Festival is committed to the privacy and creative property of all filmmakers\, and downloads will be shared internally for programming consideration purposes only. If there are changes to the accessibility of your link\, you must contact the Festival ASAP via email: submissions@telluridefilmfestival.org \nPresentation Format: If your film is accepted for exhibition\, Telluride Film Festival accepts 35mm and DCP for screenings. \nFestival Notification: Final program determinations will be made by August 1st. You will be notified in writing by the first week of August whether your film has been invited to screen with us or not. Except in emergencies\, please do not call the Festival office for disposition. \nImportant reminder for all Filmmaker's submissions: If your film is accepted\, invitations may be sent as late as the first week of August. Please provide all the requested contact information\, especially where and how we can contact the Filmmakers themselves at that time! \n  \nDEADLINES & FEES\nOpening Submission Date\nApril 15\, 2025 \nNotification Date\nAugust 1\, 2025 \nEvent Date\nAugust 29  - September 1\, 2025 \n  \n\n\n\n\nDeadline\n\n\nFeature Films (60 mins. or longer)\nJuly 1\, 2025: $95\n\n\nShort Films (40-59 minutes)\nJuly 1\, 2025: $85\n\n\nShort Films (20-39 Minutes)\nJuly 1\, 2025: $65\n\n\nShort Films (19 Minutes and less)\nJuly 1\, 2025: $45\n\n\nStudent Films (All Lengths)\nJuly 1\, 2025: $35\n\n\n\n  \nVisit the Telluride Film Festival website for more information. \n  \n\n\nVIEW THE EVENT CALENDAR\n  \n 
URL:https://motionpicturemaker.com/event/telluride-film-festival-open-for-submissions/
LOCATION:Sheridan Opera House\, 110 N Oak Street\, Telluride\, CO\, 81435\, United States
CATEGORIES:Film Festivals
ATTACH;FMTTYPE=image/jpeg:https://motionpicturemaker.com/wp-content/uploads/2022/06/telluride-film-festival-logo.jpg
END:VEVENT
BEGIN:VEVENT
DTSTART;VALUE=DATE:20250416
DTEND;VALUE=DATE:20250417
DTSTAMP:20260424T082734
CREATED:20250717T034234Z
LAST-MODIFIED:20250717T160022Z
UID:2093-1744761600-1744847999@motionpicturemaker.com
SUMMARY:Philadelphia Film Festival Open For Submissions
DESCRIPTION:Philadelphia\, Pennsylvania\nUnited States\n  \nABOUT THE PHILADELPHIA FILM FESTIVAL\nOver the past several years\, the Philadelphia Film Festival has grown to become not only a local gem that Philadelphians look forward to every year\, but also an important festival within the industry as a whole. The quality of the programming has been stellar\, known for scouring submissions and Festivals year-round for the perfect lineup for Philadelphia audiences. Past Festivals have featured some of the most highly-anticipated and eventual award-winning films\, including Drive My Car\, Nomadland\, Sound of Metal\, One Night in Miami\, Jojo Rabbit\, Lady Bird\, La La Land\, and Best Picture Winners Parasite\, Moonlight\, Birdman (or the Unexpected Virtue of Ignorance)\, 12 Years a Slave\, and The Artist. \nMission Statement\nPhiladelphia Film Society creates opportunities for diverse communities to experience film through initiatives that inspire\, educate\, challenge and entertain. \n  \nAbout Philadelphia Film Society\nPhiladelphia Film Society (PFS) is a 501(c)(3) member-supported nonprofit arts organization that creates opportunities for diverse communities to experience film through initiatives that inspire\, educate\, challenge\, and entertain. PFS is the region’s foremost resource for film presentation and education\, and is committed to presenting film as a transformative and powerful medium for artistic expression and a catalyst for strengthening community. As the producer of the Philadelphia Film Festival and creative force behind the Philadelphia Film Center\, PFS Bourse Theater\, and PFS Drive-In at the Navy Yard\, PFS raises awareness of film as an important art form in Philadelphia\, and serves as a vital piece of the city’s arts and culture community. \n  \nDEADLINES & FEES\nOpening Submission Date\nApril 16\, 2025 \nNotification Date\nSeptember 30\, 2025 \nEvent Date\nOctober 16 - 26\, 2025 \n  \n\n\n\n\nEarlybird\nRegular\nLate\nExtended\n\n\nFeature Films (Narrative/Documentary)\nMay 14\, 2025: $50\nJuly 16\, 2025: $60\nJuly 30\, 2025: $70\nAugust 13\, 2025: $85\n\n\nShort Films\nMay 14\, 2025: $40\nJuly 16\, 2025: $45\nJuly 30\, 2025: $50\nAugust 13\, 2025: $65\n\n\n\n  \nVisit the Philadelphia Film Festival website for more information. \n  \n\n\nVIEW THE EVENT CALENDAR
URL:https://motionpicturemaker.com/event/philadelphia-film-festival-open-for-submissions/
LOCATION:PFS Bourse Theater\, 400 Ranstead Street\, Philadelphia\, PA\, 19106\, United States
CATEGORIES:Film Festivals
ATTACH;FMTTYPE=image/jpeg:https://motionpicturemaker.com/wp-content/uploads/2022/07/philidelphia-film-festival-logo.jpg
ORGANIZER;CN="Philadelphia Film Society":MAILTO:info@filmadelphia.org
END:VEVENT
BEGIN:VEVENT
DTSTART;VALUE=DATE:20250417
DTEND;VALUE=DATE:20250428
DTSTAMP:20260424T082734
CREATED:20250220T023413Z
LAST-MODIFIED:20250302T052100Z
UID:221-1744848000-1745798399@motionpicturemaker.com
SUMMARY:Calgary Underground Film Festival
DESCRIPTION:Calgary\, Alberta\nCanada\n  \nABOUT THE CALGARY UNDERGROUND FILM FESTIVAL\nThe Calgary Underground Film Festival (CUFF) is Western Canada's premiere genre festival\, and one of Calgary’s most anticipated events for film fans. Recently\, CUFF has been named one of The Best Horror Festivals in the World\, 2022 by Dread Central\, and in 2023 and 2021 was selected as one of the World’s 50 Best Genre Festivals and one of 50 Film Festivals Worth the Entry Fee by MovieMaker Magazine. \nFounded in 2003\, CUFF is a not-for-profit organization dedicated to programming films that defy convention. Through the screening of contemporary works in various categories that include: feature\, documentary\, animation and shorts – we bring Calgarians a unique roster of films rarely seen in North American theatres. We actively look to showcase titles in all genres\, from horror\, sci-fi and fantasy to comedies\, thrillers and music-related films. In addition to finding great films we are committed to introducing you to the people behind the lens\, by showcasing local and international indie filmmakers. We are proud to contribute to Calgary's thriving arts community and are thrilled to bring innovative and challenging selections to all film enthusiasts. \nGUIDELINES\n1) Features films: must be a Calgary premiere\, and not have screened in theatre\, local festival or Canadian broadcast before our dates.\n2) Short films: Priority is given to films which have not yet screened in Calgary.\n3) We do not program films which were finished prior to last year's festival.\n4) Films must not have been released on VOD or available to Canadian audiences.\n5) If you change your screener link or password\, and do not notify us on your own\, it could end up not being seen. We do our best to follow up\, but can not always do so. \n*Free for alumni and Alberta filmmakers. Please email the festival for a waiver code if you meet either of these criteria. \n  \nDEADLINES & FEES\nOpening Submission Date\nJuly 2\, 2024 \nNotification Date\nMarch 17\, 2025 \nEvent Date\nApril 17 - 27\, 2025 \n  \n\n\n\n\nRegular\n\n\nFeatures (International)\nFeb 3\, 2025: $40\n\n\nFeatures (Canadian)\nFeb 3\, 2025: $30\n\n\nShort Films (International)\nFeb 3\, 2025: $20\n\n\nShort Films (Canadian)\nFeb 3\, 2025: $15\n\n\n\n  \nVisit the Calgary Underground Film Festival website for more information. \n  \n\n\nVIEW THE EVENT CALENDAR\n  \n 
URL:https://motionpicturemaker.com/event/calgary-underground-film-festival/
LOCATION:Globe Cinema\, 617 8 Ave SW\, Calgary\, AB\, T2P 1H1\, Canada
CATEGORIES:Film Festivals
ATTACH;FMTTYPE=image/jpeg:https://motionpicturemaker.com/wp-content/uploads/2022/07/cuff-docs-documentary-film-festival-logo.jpg
END:VEVENT
BEGIN:VEVENT
DTSTART;VALUE=DATE:20250417
DTEND;VALUE=DATE:20250428
DTSTAMP:20260424T082734
CREATED:20250308T023330Z
LAST-MODIFIED:20250309T033248Z
UID:467-1744848000-1745798399@motionpicturemaker.com
SUMMARY:San Francisco International Film Festival
DESCRIPTION:San Francisco\, California\nUnited States\n  \nABOUT THE SAN FRANCISCO INTERNATIONAL FILM FESTIVAL\nThe San Francisco International Film Festival presented by SFFILM was founded in 1957 making it the longest-running film festival in the Americas. The SFFILM Festival is about film appreciation—film as an art form and as a meaningful force for cultural expansion and social change. The Festival showcases the most innovative films from around the globe\, and from filmmakers who call the Bay Area home. The 2024 SFFILM Festival will take place from April 24–28 with can't miss in-person events\, fantastic parties\, thought-provoking talks\, and so much more. \nDEADLINES & FEES\nOpening Submission Date\nAugust 14\, 2024 \nNotification Date\nMarch 19\, 2025 \nEvent Date\nApril 17 -  27\, 2025 \n  \n\n\n\n\nEarly\nRegular\nFinal\n\n\nFeatures\nSept 29\, 2023: $60\nNov 3\, 2023: $60\nDec 1\, 2023: $90\n\n\nShorts\nSept 29\, 2023: $35\nNov 3\, 2023: $50\nDec 1\, 2023: $50\n\n\n\nVisit the SFFILM Festival website for more information. \n  \n\n\nVIEW THE EVENT CALENDAR
URL:https://motionpicturemaker.com/event/san-francisco-international-film-festival/
LOCATION:N/A
CATEGORIES:Film Festivals
ATTACH;FMTTYPE=image/jpeg:https://motionpicturemaker.com/wp-content/uploads/2022/06/san-fransisco-international-film-festival-logo.jpg
ORGANIZER;CN="SFFILM":MAILTO:info@SFFilm.org
END:VEVENT
BEGIN:VEVENT
DTSTART;VALUE=DATE:20250418
DTEND;VALUE=DATE:20250419
DTSTAMP:20260424T082734
CREATED:20220720T013128Z
LAST-MODIFIED:20250724T221921Z
UID:256-1744934400-1745020799@motionpicturemaker.com
SUMMARY:Vancouver International Film Festival Early Deadline
DESCRIPTION:Vancouver\, British Columbia\nCanada\n  \nABOUT THE VANCOUVER INTERNATIONAL FILM FESTIVAL (VIFF)\nVancouver International Film Festival is the home of film and film culture in Western Canada.\nDriven by passion and curatorial excellence\, VIFF encourages understanding of the world’s cultures through the art of cinema. We believe that film has a unique ability to celebrate the complexity of the human condition and that it is our responsibility to steward that power toward creating meaningful change in our world. \nFounded in 1982\, The Greater Vancouver International Film Festival Society is a not-for-profit cultural organization that operates the internationally acclaimed Vancouver International Film Festival (VIFF) and the year-round programming of the theatres at the VIFF Centre. \n  \nCanadian Submission Categories\n\nCanadian Narrative Features\nOpen to narrative films with runtimes over 25 minutes directed by a Canadian citizen or permanent resident with Canada listed as one of the countries of production OR with 51% or more Canadian financing. Feature length films must not have been broadcast\, distributed on VOD/home video\, or screened in-person either at another festival or theatrically in the Vancouver area.\nCanadian Documentaries\nOpen to nonfiction films with runtimes over 25 minutes directed by a Canadian citizen or permanent resident with Canada listed as one of the countries of production OR with 51% or more Canadian financing. Feature length films must not have been broadcast\, distributed on VOD/home video\, or screened in-person either at another festival or theatrically in the Vancouver area.\nCanadian Shorts\nOpen to narrative and nonfiction films (including animation) with runtimes of 25 minutes or less directed by a Canadian citizen or permanent resident with Canada listed as one of the countries of production OR with 51% or more Canadian financing. VIFF will consider short films that have been made available online.\n\n  \nInternational Submission Categories\n\nInternational Narrative Features\nOpen to non-Canadian narrative films with runtimes over 25 minutes. Feature length films must not have been broadcast\, distributed on VOD/home video\, or screened in-person either at another festival or theatrically in the Vancouver area.\nInternational Documentaries\nOpen to non-Canadian nonfiction films with runtimes over 25 minutes. Feature length films must not have been broadcast\, distributed on VOD/home video\, or screened in-person either at another festival or theatrically in the Vancouver area.\nInternational Shorts\nOpen to non-Canadian narrative and nonfiction films with runtimes of 25 minutes or less. Short films must not have been screened either at another festival or publicly in the Vancouver area. VIFF will consider short films that have been made available online.\n\n  \nDEADLINES & FEES\nOpening Submission Date\nJanuary 22\, 2025 \nNotification Date\nAugust 15\, 2025 \nEvent Date\nOctober 2 – 12\, 2025 \n  \n\n\n\nDeadline\nEarly\nRegular\nLate\n\n\nInternational Features\nApr 18\, 2025: $55\nMay 16\, 2025: $65\nJune 6\, 2025: $75\n\n\nInternational Shorts\nApr 18\, 2025: $40\nMay 16\, 2025: $45\nJune 6\, 2025: $50\n\n\nCanadian Features\nApr 18\, 2025: $45\nMay 16\, 2025: $50\nJune 6\, 2025: $55\n\n\nCanadian Shorts\nApr 18\, 2025: $30\nMay 16\, 2025: $35\nJune 6\, 2026: $40\n\n\n\nVisit the Vancouver International Film Festival website for more information. \n  \n\n\nVIEW THE EVENT CALENDAR
URL:https://motionpicturemaker.com/event/vancouver-international-film-festival-viff-early-deadline/
LOCATION:VIFF Centre\, 1181 Seymour St.\, Vancouver\, BC\, V6B 3M7\, Canada
CATEGORIES:Film Festivals
ATTACH;FMTTYPE=image/jpeg:https://motionpicturemaker.com/wp-content/uploads/2022/05/vancouver-international-film-festival-logo.jpg
END:VEVENT
BEGIN:VEVENT
DTSTART;VALUE=DATE:20250418
DTEND;VALUE=DATE:20250419
DTSTAMP:20260424T082734
CREATED:20250309T165906Z
LAST-MODIFIED:20250309T170008Z
UID:5160-1744934400-1745020799@motionpicturemaker.com
SUMMARY:Fantastic Fest Regular Deadline
DESCRIPTION:Fantastic Fest Regular Deadline\nToday is the Fantastic Fest film festival regular deadline. Located in the United States\, Fantastic Fest takes place in September in Austin\, Texas. It is the largest genre film festival in the US\, specializing in horror\, fantasy\, sci-fi\, and action movies. Read on for more information about Fantastic Fest\, including the regular deadline\, notification date\, festival dates\, and other important information. \nABOUT FANTASTIC FEST\nFantastic Fest is the largest genre film festival in the US\, specializing in horror\, fantasy\, sci-fi\, action and just plain fantastic movies from all around the world. The festival is dedicated to championing challenging and thought-provoking cinema\, celebrating new voices and new stories from around the world and supporting new filmmakers. We work with various other festivals\, archives\, cinematheques and individuals to spotlight lesser-known film regions\, luminaries and more in an ongoing effort to expand the general knowledge and appreciation of cinema. We are committed to supporting film in its most provocative\, ground-breaking and underseen forms\, and giving the audience a chance to find new favorites and future genre classics. \nEach year we bring together fans\, guests\, industry\, press and others in an inclusive and fun environment for a weeklong celebration of film in all its forms through carefully curated screenings and events\, both in and outside of the theaters. \nIn years past\, Fantastic Fest has been home to world premieres of THE BLACK PHONE\, JOHN WICK\, FRANKENWEENIE\, MACHETE KILLS\, RED DAWN\, THERE WILL BE BLOOD\, APOCALYPTO\, ZOMBIELAND\, RED\, SPLIT\, OVERLORD\, APOSTLE and THE NIGHT COMES FOR US\, while the guest roster has included such talent as Edgar Wright\, Julia Ducournau\, Noomi Rapace\, Bong Joon-Ho\, Tim Burton\, Nicolas Winding-Refn\, Lilly and Lana Wachowski\, Robert Rodriguez\, Rian Johnson\, Bill Murray\, Keanu Reeves\, Winona Ryder\, Edward Norton\, Ryan Reynolds\, Patrick Wilson\, Matthew Fox\, Josh Hartnett\, The RZA\, Dolph Lundgren\, Paul Rudd\, Bill Pullman\, Paul Thomas Anderson\, Kevin Smith\, Jon Favreau\, George Romero\, Darren Aronofsky\, Mike Judge\, M. Night Shyamalan\, James McAvoy\, Jonah Hill\, Jamie Lee Curtis\, Steven Yeun\, Danny McBride\, Tenacious D and more. \nFantastic Fest has been hailed as one of the “25 coolest film festivals” by MovieMaker Magazine\, “the wildest film festival in America” by The Guardian\, “a secret weapon for the arthouse market” by Indiewire as well as “the coolest film festival in the world” by IGN. \n  \nFANTASTIC FEST DEADLINES & FEES\nOpening Submission Date\nJanuary 13\, 2025 \nNotification Date\nAugust 22\, 2025 \nEvent Date\nSeptember 18–25\, 2025 \n  \n\n\n\n\nEarlybird\nRegular\nLate\nExtended Deadline\n\n\nFeature Films\nFeb 14\, 2025: $50\nApril 18\, 2025: $60\nMay 23\, 2025: $70\nJune 13\, 2025: $80\n\n\nShort Films\nFeb 14\, 2025: $40\nApril 18\, 2025: $45\nMay 23\, 2025: $50\nJune 13\, 2025: $60\n\n\nEpisodic\nFeb 14\, 2025: $40\nApril 18\, 2025: $45\nMay 23\, 2025: $50\nJune 13\, 2025: $60\n\n\n\nVisit the Fantastic Fest website for more information.
URL:https://motionpicturemaker.com/event/fantastic-fest-regular-deadline/
LOCATION:Alamo Drafthouse Cinema South Lamar\, 1120 S Lamar Blvd\, Austin\, TX\, 78704\, United States
CATEGORIES:Film Festivals
ATTACH;FMTTYPE=image/jpeg:https://motionpicturemaker.com/wp-content/uploads/2022/06/fantastic-fest-logo.jpg
END:VEVENT
END:VCALENDAR